BEGIN:VCALENDAR
VERSION:2.0
PRODID:-//eventon.com NONSGML v1.0//EN
CALSCALE:GREGORIAN
METHOD:PUBLISH
BEGIN:VEVENT
UID:69ecf2446e9fa
DTSTAMP:20260425T165636Z
DTSTART:20260428T093000Z
DTEND:20260428T130000Z
LOCATION:
SUMMARY:Débat public - L'agriculture sociale\,  un levier d'innovation dans le secteur agricole
DESCRIPTION:Le 28 avril 2026\,  le CESE organisera un débat public visant 
 à examiner les répercussions sociales et économiques de l'agriculture so
 ciale\,  à recenser les principaux obstacles à son développement et à d
 iscuter des moyens de mieux intégrer l'agriculture sociale dans les politi
 ques rurales\,  sociales et d'innovation de l'UE. À cette[..]\nhttps://occ
 itanie-europe.eu/events/debat-public-lagriculture-sociale-un-levier-dinnova
 tion-dans-le-secteur-agricole/
URL:https://occitanie-europe.eu/events/debat-public-lagriculture-sociale-un-levier-dinnovation-dans-le-secteur-agricole/
END:VEVENT
END:VCALENDAR