BEGIN:VCALENDAR
VERSION:2.0
PRODID:-//eventon.com NONSGML v1.0//EN
CALSCALE:GREGORIAN
METHOD:PUBLISH
BEGIN:VEVENT
UID:69e96efeb50c0
DTSTAMP:20260423T005942Z
DTSTART:20260430T120000Z
DTEND:20260430T153000Z
LOCATION:
SUMMARY:Atelier en ligne : Contributions à l'Acte sur l'économie circulaire
DESCRIPTION:Alors que la Commission européenne entame la phase finale des 
 consultations sur l'Acte relatif à l'économie circulaire (AEC)\,  cet ate
 lier offre aux parties prenantes une occasion opportune d'échanger leurs p
 oints de vue sur les orientations politiques qui sous-tendent la propositio
 n\,  en vue de son adoption prévue plus tard cette année.[..]\nhttps://oc
 citanie-europe.eu/events/atelier-en-ligne-contributions-a-lacte-sur-leconom
 ie-circulaire/
URL:https://occitanie-europe.eu/events/atelier-en-ligne-contributions-a-lacte-sur-leconomie-circulaire/
END:VEVENT
END:VCALENDAR