BEGIN:VCALENDAR
VERSION:2.0
PRODID:-//eventon.com NONSGML v1.0//EN
CALSCALE:GREGORIAN
METHOD:PUBLISH
BEGIN:VEVENT
UID:69e89064e3234
DTSTAMP:20260422T090956Z
DTSTART:20260504T080000Z
DTEND:20260504T100000Z
LOCATION:Berlaymont\,  Commission Européenne
SUMMARY:Dialogue sur la mise en œuvre de la directive sur les services de médias audiovisuels avec la vice-présidente exécutive Henna Virkkunen
DESCRIPTION:Le dialogue sur la mise en œuvre\,  animé par Henna Virkkunen
 \,  vice-présidente exécutive chargée de la souveraineté technologique\
 ,  de la sécurité et de la démocratie\,  réunira un groupe restreint de
  parties prenantes afin d'échanger sur les réalisations et la mise en œu
 vre effective de la directive sur les services de[..]\nhttps://occitanie-eu
 rope.eu/events/dialogue-sur-la-mise-en-oeuvre-de-la-directive-sur-les-servi
 ces-de-medias-audiovisuels-avec-la-vice-presidente-executive-henna-virkkune
 n/
URL:https://occitanie-europe.eu/events/dialogue-sur-la-mise-en-oeuvre-de-la-directive-sur-les-services-de-medias-audiovisuels-avec-la-vice-presidente-executive-henna-virkkunen/
END:VEVENT
END:VCALENDAR