BEGIN:VCALENDAR
VERSION:2.0
PRODID:-//eventon.com NONSGML v1.0//EN
CALSCALE:GREGORIAN
METHOD:PUBLISH
BEGIN:VEVENT
UID:69e58bc4584dd
DTSTAMP:20260420T021324Z
DTSTART:20260513T080000Z
DTEND:20260513T110000Z
LOCATION:
SUMMARY:Webinaire - GREENET : POLITIQUE ÉNERGÉTIQUE DE L'UE ET HORIZON EUROPE - PERSPECTIVES D'AVENIR
DESCRIPTION:Une vision stratégique de l'avenir énergétique de l'Europe s
 e profile à l'horizon. Le 13 mai 2026\,  GREENET réunit les PCN et les pa
 rties prenantes lors d'un webinaire de haut niveau avec la Commission europ
 éenne afin d'explorer la politique énergétique de l'UE\,  l'évolution d
 'Horizon Europe et le rôle des futurs partenariats.[..]\nhttps://occitanie
 -europe.eu/events/webinaire-greenet-politique-energetique-de-lue-et-horizon
 -europe-perspectives-davenir/
URL:https://occitanie-europe.eu/events/webinaire-greenet-politique-energetique-de-lue-et-horizon-europe-perspectives-davenir/
END:VEVENT
END:VCALENDAR