BEGIN:VCALENDAR
VERSION:2.0
PRODID:-//eventon.com NONSGML v1.0//EN
CALSCALE:GREGORIAN
METHOD:PUBLISH
BEGIN:VEVENT
UID:69e58dd25f354
DTSTAMP:20260420T022210Z
DTSTART:20260507T120000Z
DTEND:20260507T150000Z
LOCATION:
SUMMARY:Atelier - Révision de la réglementation sur la gouvernance de l'énergie et de l'action climatique dans l'Union européenne
DESCRIPTION:La direction générale de l'énergie et la direction général
 e de l'action pour le climat de la Commission européenne organisent un deu
 xième atelier sur la révision du règlement relatif à la gouvernance de 
 l'Union de l'énergie et de l'action pour le climat. La Commission prévoit
  de présenter une proposition législative au[..]\nhttps://occitanie-europ
 e.eu/events/atelier-revision-de-la-reglementation-sur-la-gouvernance-de-len
 ergie-et-de-laction-climatique-dans-lunion-europeenne/
URL:https://occitanie-europe.eu/events/atelier-revision-de-la-reglementation-sur-la-gouvernance-de-lenergie-et-de-laction-climatique-dans-lunion-europeenne/
END:VEVENT
END:VCALENDAR