BEGIN:VCALENDAR
VERSION:2.0
PRODID:-//eventon.com NONSGML v1.0//EN
CALSCALE:GREGORIAN
METHOD:PUBLISH
BEGIN:VEVENT
UID:69eb44ea7f1aa
DTSTAMP:20260424T102442Z
DTSTART:20260512T100000Z
DTEND:20260512T190000Z
LOCATION:Bâtiment Charlemagne 170 rue de la Loi
SUMMARY:Réunion d'experts - Les voix du changement : Des réussites qui façonnent les bâtiments de l'Europe
DESCRIPTION:Écoutez les témoignages de citoyens\,  d'entreprises\,  de pr
 ofessionnels locaux et de décideurs politiques qui impulsent la décarbona
 tion des bâtiments dans toute l'UE. Partout en Europe\,  les gouvernements
 \,  les villes et les citoyens s'engagent aujourd'hui dans l'une des transf
 ormations les plus importantes jamais entreprises par le secteur du bâtime
 nt : la mise[..]\nhttps://occitanie-europe.eu/events/reunion-dexperts-les-
 voix-du-changement-des-reussites-qui-faconnent-les-batiments-de-leurope/
URL:https://occitanie-europe.eu/events/reunion-dexperts-les-voix-du-changement-des-reussites-qui-faconnent-les-batiments-de-leurope/
END:VEVENT
END:VCALENDAR