BEGIN:VCALENDAR
VERSION:2.0
PRODID:-//eventon.com NONSGML v1.0//EN
CALSCALE:GREGORIAN
METHOD:PUBLISH
BEGIN:VEVENT
UID:69e8fdcecfe83
DTSTAMP:20260422T165646Z
DTSTART:20260424T120000Z
DTEND:20260424T133000Z
LOCATION:
SUMMARY:Webinaire - Financements EIC 2026 avec l'Association FranÃ§aise des PÃ´les de CompÃ©titivitÃ©
DESCRIPTION:Les pÃ´les de compÃ©titivitÃ© membres de lâ€™Association des PÃ
 ´les de compÃ©titivitÃ© AFPC et les PCN EIC Pathfinder\,  Transition et Acc
 elerator organisent un webinaire de prÃ©sentation des appels Ã  projets eur
 opÃ©ens 2026 de lâ€™EIC â€“ le European Innovation Council . Le programme E
 uropÃ©en EIC est le guichet unique de financement des[..]\nhttps://occitani
 e-europe.eu/events/webinaire-financements-eic-2026-avec-lassociation-franca
 ise-des-poles-de-competitivite/
URL:https://occitanie-europe.eu/events/webinaire-financements-eic-2026-avec-lassociation-francaise-des-poles-de-competitivite/
END:VEVENT
END:VCALENDAR