BEGIN:VCALENDAR
VERSION:2.0
PRODID:-//eventon.com NONSGML v1.0//EN
CALSCALE:GREGORIAN
METHOD:PUBLISH
BEGIN:VEVENT
UID:69e8b7e240083
DTSTAMP:20260422T115826Z
DTSTART:20260505T130000Z
DTEND:20260505T151500Z
LOCATION:Comité des régions Rue Belliard 99-101\,  B-1040
SUMMARY:Séminaire - Infrastructures locales et vision européenne : la nouvelle stratégie de recherche et infrastructures technologiques
DESCRIPTION:Ce séminaire de la Plateforme d'échange de connaissances (PEC
 ) vise à présenter la nouvelle stratégie européenne relative aux infras
 tructures de recherche et de technologie et à identifier des solutions inn
 ovantes pour rendre ces infrastructures de pointe accessibles aux chercheur
 s\,  aux innovateurs et aux industriels de toute l'Europe\,  quel que soit[
 ..]\nhttps://occitanie-europe.eu/events/seminaire-infrastructures-locales-e
 t-vision-europeenne-la-nouvelle-strategie-de-recherche-et-infrastructures-t
 echnologiques/
URL:https://occitanie-europe.eu/events/seminaire-infrastructures-locales-et-vision-europeenne-la-nouvelle-strategie-de-recherche-et-infrastructures-technologiques/
END:VEVENT
END:VCALENDAR