BEGIN:VCALENDAR
VERSION:2.0
PRODID:-//eventon.com NONSGML v1.0//EN
CALSCALE:GREGORIAN
METHOD:PUBLISH
BEGIN:VEVENT
UID:69e73aae5f13e
DTSTAMP:20260421T085158Z
DTSTART:20260428T090000Z
DTEND:20260430T123000Z
LOCATION:
SUMMARY:Journées d'information - EU LIFE 2026
DESCRIPTION:Les appels à propositions LIFE 2026 seront publiés le 21 avri
 l. Le CINEA organisera les journées d'information #EULIFE26 en ligne du 28
  au 30 avril 2026 afin d'accompagner les candidats potentiels.\nhttps://occ
 itanie-europe.eu/events/journees-dinformation-eu-life-2026/
URL:https://occitanie-europe.eu/events/journees-dinformation-eu-life-2026/
END:VEVENT
END:VCALENDAR