BEGIN:VCALENDAR
VERSION:2.0
PRODID:-//eventon.com NONSGML v1.0//EN
CALSCALE:GREGORIAN
METHOD:PUBLISH
BEGIN:VEVENT
UID:69e8b814cf3b9
DTSTAMP:20260422T115916Z
DTSTART:20260416T133000Z
DTEND:20260416T150000Z
LOCATION:
SUMMARY:Session d'information en ligne : Exploration de l'appel Ã  projets de coopÃ©ration SSH-STEM 2026 - Horizon Europe
DESCRIPTION:ÃŠtes-vous intÃ©ressÃ©(e) par une candidature au thÃ¨me Â«Â AmÃ
 ©lioration de la coopÃ©ration entre les sciences humaines et sociales (SHS)
  et les sciences\,  technologies\,  ingÃ©nierie et mathÃ©matiques (STEM)Â Â
 » dans le cadre du Cluster 2 dâ€™Horizon EuropeÂ ? Cette session dâ€™inform
 ation vise Ã  prÃ©senter aux candidats (potentiels) le thÃ¨me 2026 HORIZON-
 CL2-2026-01-TRANSFO-10 Â«Â Favoriser la coopÃ©ration[..]\nhttps://occitanie
 -europe.eu/events/session-dinformation-en-ligne-exploration-de-lappel-a-pro
 jets-de-cooperation-ssh-stem-2026-horizon-europe/
URL:https://occitanie-europe.eu/events/session-dinformation-en-ligne-exploration-de-lappel-a-projets-de-cooperation-ssh-stem-2026-horizon-europe/
END:VEVENT
END:VCALENDAR