BEGIN:VCALENDAR
VERSION:2.0
PRODID:-//eventon.com NONSGML v1.0//EN
CALSCALE:GREGORIAN
METHOD:PUBLISH
BEGIN:VEVENT
UID:69eb78474ea25
DTSTAMP:20260424T140351Z
DTSTART:20260415T093000Z
DTEND:20260415T120000Z
LOCATION:
SUMMARY:Webinaire - Appel Ã  proposition Agri-food Biothech Scaling-up (SMP-COSME-2026-BIOAGRIFOOD)
DESCRIPTION:Le 15 avril 2026\,  l'Agence exÃ©cutive du Conseil europÃ©en de
  l'innovation et des PME (EISMEA) organise un webinaire d'information en li
 gne afin de prÃ©senter l'appel Ã  projets Â« Agri-food Biotech Scaling-up Â
 » (SMP-COSME-2026-BIOAGRIFOOD).\nhttps://occitanie-europe.eu/events/webinai
 re-appel-a-proposition-agri-food-biothech-scaling-up-smp-cosme-2026-bioagri
 food/
URL:https://occitanie-europe.eu/events/webinaire-appel-a-proposition-agri-food-biothech-scaling-up-smp-cosme-2026-bioagrifood/
END:VEVENT
END:VCALENDAR