BEGIN:VCALENDAR
VERSION:2.0
PRODID:-//eventon.com NONSGML v1.0//EN
CALSCALE:GREGORIAN
METHOD:PUBLISH
BEGIN:VEVENT
UID:69e767d3604f6
DTSTAMP:20260421T120435Z
DTSTART:20260422T080000Z
DTEND:20260422T095000Z
LOCATION:
SUMMARY:Webinaire - Crédits de biodiversité en pratique : premiers enseignements tirés de la mise en œuvre pilote de crédits de biodiversité dans les zones humides européennes
DESCRIPTION:Organisé par Eurosite\,  bloomlabs\,  aeco\,  Sylva\,  NABU et
  l'Organisation européenne des propriétaires fonciers (ELO) dans le cadre
  du projet LIFE BiodivCrEW\,  ce webinaire explorera la mise à l'essai des
  crédits biodiversité dans les zones humides européennes et les enseigne
 ments tirés des premières expériences de mise en œuvre concernant la co
 nception[..]\nhttps://occitanie-europe.eu/events/webinaire-credits-de-biodi
 versite-en-pratique-premiers-enseignements-tires-de-la-mise-en-oeuvre-pilot
 e-de-credits-de-biodiversite-dans-les-zones-humides-europeennes/
URL:https://occitanie-europe.eu/events/webinaire-credits-de-biodiversite-en-pratique-premiers-enseignements-tires-de-la-mise-en-oeuvre-pilote-de-credits-de-biodiversite-dans-les-zones-humides-europeennes/
END:VEVENT
END:VCALENDAR