BEGIN:VCALENDAR
VERSION:2.0
PRODID:-//eventon.com NONSGML v1.0//EN
CALSCALE:GREGORIAN
METHOD:PUBLISH
BEGIN:VEVENT
UID:69e58d84b806c
DTSTAMP:20260420T022052Z
DTSTART:20260420T100000Z
DTEND:20260521T133000Z
LOCATION:
SUMMARY:Webinaire - 5e réunion mondiale du CEMS sur la prévision et la surveillance des inondations
DESCRIPTION:Le service de gestion des urgences Copernicus (CEMS) organise l
 es 20 et 21 avril une réunion mondiale sur la prévision et la surveillanc
 e des innondations. L’ordre du jour de la réunion comprendra : des pré
 sentations sur les développements récents et à venir du Système mondial
  d’alerte des inondations (GloFAS) du CEMS[..]\nhttps://occitanie-europe.
 eu/events/webinaire-5e-reunion-mondiale-du-cems-sur-la-prevision-et-la-surv
 eillance-des-inondations/
URL:https://occitanie-europe.eu/events/webinaire-5e-reunion-mondiale-du-cems-sur-la-prevision-et-la-surveillance-des-inondations/
END:VEVENT
END:VCALENDAR