BEGIN:VCALENDAR
VERSION:2.0
PRODID:-//eventon.com NONSGML v1.0//EN
CALSCALE:GREGORIAN
METHOD:PUBLISH
BEGIN:VEVENT
UID:69e8b7e23fce0
DTSTAMP:20260422T115826Z
DTSTART:20260421T110000Z
DTEND:20260421T114500Z
LOCATION:
SUMMARY:Webinaire - Ce qui est mesurÃ© est rÃ©alisÃ© : nouvelles mÃ©triques pour la valorisation des connaissances
DESCRIPTION:LibÃ©rez le potentiel du savoir ! Participez au webinaire de la
  DG RTD du 21 avril pour dÃ©couvrir des approches novatrices permettant de 
 mesurer l'impact des activitÃ©s de recherche et de valorisation. DÃ©couvrez
  de nouveaux indicateurs qui rendent compte des bÃ©nÃ©fices sociÃ©taux\,  Ã
 ©conomiques et environnementaux.\nhttps://occitanie-europe.eu/events/webina
 ire-ce-qui-est-mesure-est-realise-nouvelles-metriques-pour-la-valorisation-
 des-connaissances/
URL:https://occitanie-europe.eu/events/webinaire-ce-qui-est-mesure-est-realise-nouvelles-metriques-pour-la-valorisation-des-connaissances/
END:VEVENT
END:VCALENDAR