BEGIN:VCALENDAR
VERSION:2.0
PRODID:-//eventon.com NONSGML v1.0//EN
CALSCALE:GREGORIAN
METHOD:PUBLISH
BEGIN:VEVENT
UID:69e73a3ee488d
DTSTAMP:20260421T085006Z
DTSTART:20260318T180000Z
DTEND:20260318T200000Z
LOCATION:Frère-Orbansquare 8\,  1000 Bruxelles
SUMMARY:Débat public - Pourquoi les inégalités économiques ont des conséquences sexospécifiques pour la démocratie européenne : lancement du manuel UNTWIST
DESCRIPTION:Bénéficiez des conclusions issues d'un projet de recherche Ho
 rizon Europe mené pendant trois ans. Découvrez des recommandations politi
 ques concrètes pour lutter contre l'insécurité matérielle liée au genr
 e en Europe. Explorez des stratégies visant à renforcer la réactivité d
 émocratique tout en prévenant les réactions négatives liées au genre. 
 Engagez-vous directement auprès[..]\nhttps://occitanie-europe.eu/events/de
 bat-public-pourquoi-les-inegalites-economiques-ont-des-consequences-sexospe
 cifiques-pour-la-democratie-europeenne-lancement-du-manuel-untwist/
URL:https://occitanie-europe.eu/events/debat-public-pourquoi-les-inegalites-economiques-ont-des-consequences-sexospecifiques-pour-la-democratie-europeenne-lancement-du-manuel-untwist/
END:VEVENT
END:VCALENDAR