BEGIN:VCALENDAR
VERSION:2.0
PRODID:-//eventon.com NONSGML v1.0//EN
CALSCALE:GREGORIAN
METHOD:PUBLISH
BEGIN:VEVENT
UID:69e5fa4527101
DTSTAMP:20260420T100453Z
DTSTART:20260224T100000Z
DTEND:20260224T140000Z
LOCATION:ETOA Rue du Marché aux Herbes 61\,  1000 Bruxelles
SUMMARY:Conférence internationale PANTOUR - Compétences en tourisme 2026-2036
DESCRIPTION:La conférence réunit les leaders européens du tourisme\,  le
 s éducateurs\,  les décideurs politiques et les acteurs du secteur afin d
 e façonner l’avenir du développement des compétences dans ce secteur. 
 Organisé au siège de l’ETOA à Bruxelles\,  cet événement industriel 
 de haut niveau explorera comment le tourisme peut préparer ses effectifs[.
 .]\nhttps://occitanie-europe.eu/events/conference-internationale-pantour-co
 mpetences-en-tourisme-2026-2036/
URL:https://occitanie-europe.eu/events/conference-internationale-pantour-competences-en-tourisme-2026-2036/
END:VEVENT
END:VCALENDAR