BEGIN:VCALENDAR
VERSION:2.0
PRODID:-//eventon.com NONSGML v1.0//EN
CALSCALE:GREGORIAN
METHOD:PUBLISH
BEGIN:VEVENT
UID:69e7397ff04bf
DTSTAMP:20260421T084655Z
DTSTART:20260304T130000Z
DTEND:20260304T140000Z
LOCATION:
SUMMARY:Les femmes dans les médias - facteurs de soutien et d'entrave
DESCRIPTION:Défis pour les femmes dans les médias – facteurs de soutien
  et d’entrave L’inégalité des sexes reste l’un des problèmes les p
 lus pressants auxquels nos sociétés continuent de faire face. La question
  de l’égalité des sexes dans le secteur des médias est façonnée par 
 des évolutions politiques\,  sociales et technologiques[..]\nhttps://occit
 anie-europe.eu/events/les-femmes-dans-les-medias-facteurs-de-soutien-et-den
 trave/
URL:https://occitanie-europe.eu/events/les-femmes-dans-les-medias-facteurs-de-soutien-et-dentrave/
END:VEVENT
END:VCALENDAR