BEGIN:VCALENDAR
VERSION:2.0
PRODID:-//eventon.com NONSGML v1.0//EN
CALSCALE:GREGORIAN
METHOD:PUBLISH
BEGIN:VEVENT
UID:69e74e72673f1
DTSTAMP:20260421T101618Z
DTSTART:20251211T090000Z
DTEND:20251211T163000Z
LOCATION:Parlement européen\,  Bâtiment Paul-Henri Spaak\,  Salle SPAAK 6B1
SUMMARY:Relier les continents : l’enseignement supérieur comme outil de coopération UE-Méditerranée méridionale
DESCRIPTION:À l'approche de l'adoption du Nouveau Pacte pour la Méditerra
 née\,  l'Université euro-méditerranéenne (EMUNI) et l'Université Eurom
 ed de Fès (UEMF)\,  en coopération avec l'Association slovène des entrep
 rises et de la recherche (SBRA)\,  basée à Bruxelles\,  ont le plaisir de
  vous inviter à une conférence de haut niveau qui se tiendra le[..]\nhttp
 s://occitanie-europe.eu/events/relier-les-continents-lenseignement-superieu
 r-comme-outil-de-cooperation-ue-mediterranee-meridionale/
URL:https://occitanie-europe.eu/events/relier-les-continents-lenseignement-superieur-comme-outil-de-cooperation-ue-mediterranee-meridionale/
END:VEVENT
END:VCALENDAR