BEGIN:VCALENDAR
VERSION:2.0
PRODID:-//eventon.com NONSGML v1.0//EN
CALSCALE:GREGORIAN
METHOD:PUBLISH
BEGIN:VEVENT
UID:69e73a3f72712
DTSTAMP:20260421T085007Z
DTSTART:20251203T130000Z
DTEND:20251203T170000Z
LOCATION:Comité européen des régions\,  Rue van Maerlant 2 – VMA 21
SUMMARY:Façonner l'avenir des laboratoires vivants et des phares de la santé des sols en Europe
DESCRIPTION:Le 3 décembre 2025\,  à la veille de la Journée mondiale des
  sols\,  SOILL-Startup organise une conférence axée sur les politiques pu
 bliques afin de concilier les attentes de l'UE et les résultats concrets d
 es première et deuxième phases du programme Mission Soil Living Labs. Cet
  événement examinera les besoins en[..]\nhttps://occitanie-europe.eu/even
 ts/faconner-lavenir-des-laboratoires-vivants-et-des-phares-de-la-sante-des-
 sols-en-europe/
URL:https://occitanie-europe.eu/events/faconner-lavenir-des-laboratoires-vivants-et-des-phares-de-la-sante-des-sols-en-europe/
END:VEVENT
END:VCALENDAR