BEGIN:VCALENDAR
VERSION:2.0
PRODID:-//eventon.com NONSGML v1.0//EN
CALSCALE:GREGORIAN
METHOD:PUBLISH
BEGIN:VEVENT
UID:69e74e7450e83
DTSTAMP:20260421T101620Z
DTSTART:20251210T143000Z
DTEND:20251210T180000Z
LOCATION:
SUMMARY:JournÃ©e d'information sur les enchÃ¨res d'hydrogÃ¨ne 2025 du Fonds pour l'innovation
DESCRIPTION:lâ€™Agence exÃ©cutive europÃ©enne pour le climat\,  les infrast
 ructures et lâ€™environnement (CINEA) et la direction gÃ©nÃ©rale de lâ€™act
 ion pour le climat (DG CLIMA) de la Commission europÃ©enne organiseront une
  journÃ©e dâ€™information sur la vente aux enchÃ¨res dâ€™hydrogÃ¨ne 2025 (e
 nchÃ¨res dâ€™hydrogÃ¨ne IF25). Pour aider les candidats intÃ©ressÃ©s Ã  prÃ
 ©parer leurs propositions\,  les[..]\nhttps://occitanie-europe.eu/events/jo
 urnee-dinformation-sur-les-encheres-dhydrogene-2025-du-fonds-pour-linnovati
 on/
URL:https://occitanie-europe.eu/events/journee-dinformation-sur-les-encheres-dhydrogene-2025-du-fonds-pour-linnovation/
END:VEVENT
END:VCALENDAR