BEGIN:VCALENDAR
VERSION:2.0
PRODID:-//eventon.com NONSGML v1.0//EN
CALSCALE:GREGORIAN
METHOD:PUBLISH
BEGIN:VEVENT
UID:69e739a7d338e
DTSTAMP:20260421T084735Z
DTSTART:20251111T143000Z
DTEND:20251111T163000Z
LOCATION:Parlement européen
SUMMARY:Audience publique : Captage et stockage du carbone et captage et utilisation du carbone
DESCRIPTION:Le 11 novembre 2025\,  la commission ITRE du Parlement europée
 n organisera une audition publique consacrée au « captage et stockage du 
 carbone (CSC) » et au « captage et utilisation du carbone (CCU) ». Les d
 éputés auront l’occasion d’échanger avec quatre experts sur les déf
 is actuels liés à ces technologies[..]\nhttps://occitanie-europe.eu/event
 s/audience-publique-captage-et-stockage-du-carbone-et-captage-et-utilisatio
 n-du-carbone/
URL:https://occitanie-europe.eu/events/audience-publique-captage-et-stockage-du-carbone-et-captage-et-utilisation-du-carbone/
END:VEVENT
END:VCALENDAR