BEGIN:VCALENDAR
VERSION:2.0
PRODID:-//eventon.com NONSGML v1.0//EN
CALSCALE:GREGORIAN
METHOD:PUBLISH
BEGIN:VEVENT
UID:69e739f7119e3
DTSTAMP:20260421T084855Z
DTSTART:20251027T130000Z
DTEND:20251027T140000Z
LOCATION:
SUMMARY:Webinaire - Robots éducatifs : accompagner les élèves grâce à l'IA et à la robotique
DESCRIPTION:La robotique éducative est déjà présente dans les salles de
  classe à travers l’Europe. Des chatbots utilisant l’intelligence arti
 ficielle (IA) aux robots humanoïdes\,  ces outils participent aux cours\, 
  soutiennent la santé mentale des élèves et permettent de créer des par
 cours d’apprentissage personnalisés. Lors de ce webinaire\,  nous explor
 erons des études[..]\nhttps://occitanie-europe.eu/events/webinaire-robots-
 educatifs-accompagner-les-eleves-grace-a-lia-et-a-la-robotique/
URL:https://occitanie-europe.eu/events/webinaire-robots-educatifs-accompagner-les-eleves-grace-a-lia-et-a-la-robotique/
END:VEVENT
END:VCALENDAR