BEGIN:VCALENDAR
VERSION:2.0
PRODID:-//eventon.com NONSGML v1.0//EN
CALSCALE:GREGORIAN
METHOD:PUBLISH
BEGIN:VEVENT
UID:69e5f93d83422
DTSTAMP:20260420T100029Z
DTSTART:20250916T143000Z
DTEND:20250916T160000Z
LOCATION:
SUMMARY:Dialogue sur la politique de la jeunesse « Plan d'action contre le cyberharcèlement »
DESCRIPTION:Glenn Micallef\,  commissaire chargé de l'équité intergéné
 rationnelle\,  de la jeunesse\,  de la culture et des sports\,  organisera 
 un dialogue sur la politique de la jeunesse consacré au cyberharcèlement 
 le 16 septembre 2025 à Bruxelles. Intitulé «Plan d'action contre le cybe
 rharcèlement»\,  cet événement réunira 14 jeunes de toute l'Europe qui
  partageront[..]\nhttps://occitanie-europe.eu/events/dialogue-sur-la-politi
 que-de-la-jeunesse-plan-daction-contre-le-cyberharcelement-2/
URL:https://occitanie-europe.eu/events/dialogue-sur-la-politique-de-la-jeunesse-plan-daction-contre-le-cyberharcelement-2/
END:VEVENT
END:VCALENDAR