BEGIN:VCALENDAR
VERSION:2.0
PRODID:-//eventon.com NONSGML v1.0//EN
CALSCALE:GREGORIAN
METHOD:PUBLISH
BEGIN:VEVENT
UID:69e74ea9e4c17
DTSTAMP:20260421T101713Z
DTSTART:20251028T093000Z
DTEND:20251028T170000Z
LOCATION:
SUMMARY:Réunion de réseautage – Traiter les émissions d'ammoniac dans l'agriculture dans le cadre de la directive révisée sur les émissions industrielles (IED 2.0)
DESCRIPTION:Les émissions d’ammoniac constituent l’un des principaux f
 acteurs de dégradation de l’environnement en Europe. Malgré les efforts
  de réduction en cours\,  l’agriculture reste la principale source de po
 llution à l’ammoniac dans l’UE\,  représentant plus de 90 % des émis
 sions totales. Pour relever ce défi\,  la directive révisée sur les émi
 ssions[..]\nhttps://occitanie-europe.eu/events/reunion-de-reseautage-traite
 r-les-emissions-dammoniac-dans-lagriculture-dans-le-cadre-de-la-directive-r
 evisee-sur-les-emissions-industrielles-ied-2-0/
URL:https://occitanie-europe.eu/events/reunion-de-reseautage-traiter-les-emissions-dammoniac-dans-lagriculture-dans-le-cadre-de-la-directive-revisee-sur-les-emissions-industrielles-ied-2-0/
END:VEVENT
END:VCALENDAR