BEGIN:VCALENDAR
VERSION:2.0
PRODID:-//eventon.com NONSGML v1.0//EN
CALSCALE:GREGORIAN
METHOD:PUBLISH
BEGIN:VEVENT
UID:69e73a4e672db
DTSTAMP:20260421T085022Z
DTSTART:20250625T110000Z
DTEND:20250625T123000Z
LOCATION:
SUMMARY:Audience publique conjointe EMPL-HOUS sur la crise du logement
DESCRIPTION:Le 25 juin 2025\,  de 11h00 à 12h30\,  la Commission spéciale
  du Parlement européen sur la crise du logement dans l'UE et la Commission
  de l'emploi et des affaires sociales (EMPL) organisent conjointement une a
 udition publique sur les droits au logement\,  les droits de propriété et
  les protections des locataires[..]\nhttps://occitanie-europe.eu/events/aud
 ience-publique-conjointe-empl-hous-sur-la-crise-du-logement/
URL:https://occitanie-europe.eu/events/audience-publique-conjointe-empl-hous-sur-la-crise-du-logement/
END:VEVENT
END:VCALENDAR