BEGIN:VCALENDAR
VERSION:2.0
PRODID:-//eventon.com NONSGML v1.0//EN
CALSCALE:GREGORIAN
METHOD:PUBLISH
BEGIN:VEVENT
UID:69e74e73cf4f8
DTSTAMP:20260421T101619Z
DTSTART:20250630T093000Z
DTEND:20250630T123000Z
LOCATION:
SUMMARY:Stimuler la bioéconomie dans le secteur agroalimentaire
DESCRIPTION:Contexte La nouvelle stratégie pour la bioéconomie\,  dont l'
 adoption est prévue pour la fin de l'année 2025\,  vise à faire progress
 er l'innovation et à maintenir la position de leader de l'UE dans le domai
 ne de la bioéconomie. Elle proposera des actions visant à libérer le pot
 entiel des innovations en matière[..]\nhttps://occitanie-europe.eu/events/
 stimuler-la-bioeconomie-dans-le-secteur-agroalimentaire/
URL:https://occitanie-europe.eu/events/stimuler-la-bioeconomie-dans-le-secteur-agroalimentaire/
END:VEVENT
END:VCALENDAR