BEGIN:VCALENDAR
VERSION:2.0
PRODID:-//eventon.com NONSGML v1.0//EN
CALSCALE:GREGORIAN
METHOD:PUBLISH
BEGIN:VEVENT
UID:69e5e76dd24e7
DTSTAMP:20260420T084429Z
DTSTART:20250611T093000Z
DTEND:20250611T130000Z
LOCATION:
SUMMARY:La communication sur l’Union de l’épargne et des investissements
DESCRIPTION:Le CESE organise une audition publique qui réunira les institu
 tions\,  l’industrie et les parties prenantes de la société civile. Nou
 s discuterons des éléments manquants qui permettraient à nos citoyens d'
 accéder à de meilleures possibilités d'investissement\,  offriraient des
  possibilités de financement à nos entreprises pour croître et prospére
 r\,  et jetteraient les[..]\nhttps://occitanie-europe.eu/events/la-communic
 ation-sur-lunion-de-lepargne-et-des-investissements/
URL:https://occitanie-europe.eu/events/la-communication-sur-lunion-de-lepargne-et-des-investissements/
END:VEVENT
END:VCALENDAR