BEGIN:VCALENDAR
VERSION:2.0
PRODID:-//eventon.com NONSGML v1.0//EN
CALSCALE:GREGORIAN
METHOD:PUBLISH
BEGIN:VEVENT
UID:69e74e2bdf510
DTSTAMP:20260421T101507Z
DTSTART:20250604
DTEND:20250605
LOCATION:Comité des régions Rue Belliard 99-101\,  B-1040
SUMMARY:5e réunion du groupe de coordination du pacte rural (GCPR)
DESCRIPTION:La cinquième réunion du GCPR  informera les membres du paysa
 ge politique et interinstitutionnel pour les zones et communautés rurales 
 et discutera des moyens de maximiser l'impact de la déclaration du GCPR.\n
 https://occitanie-europe.eu/events/5e-reunion-du-groupe-de-coordination-du-
 pacte-rural-gcpr/
URL:https://occitanie-europe.eu/events/5e-reunion-du-groupe-de-coordination-du-pacte-rural-gcpr/
END:VEVENT
END:VCALENDAR