BEGIN:VCALENDAR
VERSION:2.0
PRODID:-//eventon.com NONSGML v1.0//EN
CALSCALE:GREGORIAN
METHOD:PUBLISH
BEGIN:VEVENT
UID:69e73a4ed53e8
DTSTAMP:20260421T085022Z
DTSTART:20250611T100000Z
DTEND:20250612T170000Z
LOCATION:Thon Hotel Avenue Louise 91-93\,  1050 Bruxelles
SUMMARY:Groupe 3 - Sécurité civile pour la société - Journée d'information et Brokerage Event
DESCRIPTION:L'événement fournira une vue d'ensemble des appels à proposi
 tions du Cluster 3 d'Horizon Europe 2025\,  couvrant des domaines clés tel
 s que les sociétés résilientes aux catastrophes\,  la lutte contre la cr
 iminalité et le terrorisme\,  la gestion des frontières\,  la cybersécur
 ité et la protection des infrastructures. Les participants bénéficieront
  également d'informations[..]\nhttps://occitanie-europe.eu/events/groupe-3
 -securite-civile-pour-la-societe-journee-dinformation-et-brokerage-event/
URL:https://occitanie-europe.eu/events/groupe-3-securite-civile-pour-la-societe-journee-dinformation-et-brokerage-event/
END:VEVENT
END:VCALENDAR