BEGIN:VCALENDAR
VERSION:2.0
PRODID:-//eventon.com NONSGML v1.0//EN
CALSCALE:GREGORIAN
METHOD:PUBLISH
BEGIN:VEVENT
UID:69ea450a174e1
DTSTAMP:20260423T161258Z
DTSTART:20250423T153000Z
DTEND:20250423T170000Z
LOCATION:
SUMMARY:Webinaire d'information : Intégrer les compétences entrepreneuriales dans les programmes d'enseignement supérieur
DESCRIPTION:L'objectif de ce webinaire est d'explorer la manière dont les 
 compétences entrepreneuriales sont intégrées dans les programmes d'étud
 es de l'enseignement supérieur européen. Des experts présenteront des do
 nnées\,  des modèles institutionnels et des stratégies pratiques pour en
 courager l'esprit d'entreprise chez les étudiants. Les thèmes abordés so
 nt les suivants : Qu'est-ce qui[..]\nhttps://occitanie-europe.eu/events/web
 inaire-dinformation-integrer-les-competences-entrepreneuriales-dans-les-pro
 grammes-denseignement-superieur/
URL:https://occitanie-europe.eu/events/webinaire-dinformation-integrer-les-competences-entrepreneuriales-dans-les-programmes-denseignement-superieur/
END:VEVENT
END:VCALENDAR