BEGIN:VCALENDAR
VERSION:2.0
PRODID:-//eventon.com NONSGML v1.0//EN
CALSCALE:GREGORIAN
METHOD:PUBLISH
BEGIN:VEVENT
UID:69e739f812151
DTSTAMP:20260421T084856Z
DTSTART:20250410T160000Z
DTEND:20250410T170000Z
LOCATION:
SUMMARY:Webinaire HEInnovate : Transformer les Ã©tablissements d'enseignement supÃ©rieur
DESCRIPTION:L'objectif de ce webinaire est de fournir des informations prat
 iques sur HEInnovate\,  un outil d'auto-Ã©valuation conÃ§u spÃ©cifiquement 
 pour les Ã©tablissements d'enseignement supÃ©rieur afin d'explorer et d'amÃ
 ©liorer leur potentiel entrepreneurial et innovant. Au cours de ce webinair
 e d'une heure\,  les points suivants seront abordÃ©s : Comment utiliser l'o
 util d'auto-Ã©valuation avec ses[..]\nhttps://occitanie-europe.eu/events/we
 binaire-heinnovate-transformer-les-etablissements-denseignement-superieur/
URL:https://occitanie-europe.eu/events/webinaire-heinnovate-transformer-les-etablissements-denseignement-superieur/
END:VEVENT
END:VCALENDAR