BEGIN:VCALENDAR
VERSION:2.0
PRODID:-//eventon.com NONSGML v1.0//EN
CALSCALE:GREGORIAN
METHOD:PUBLISH
BEGIN:VEVENT
UID:69e944586d729
DTSTAMP:20260422T215744Z
DTSTART:20250513T093000Z
DTEND:20250514T170000Z
LOCATION:
SUMMARY:Journées d'information Horizon Europe - Cluster 4
DESCRIPTION:Cet événement vise à informer les candidats potentiels sur l
 es opportunités de financement dans le cadre du programme de travail 2025 
 du Cluster 4 « Numérique\,  Industrie et Espace » d'Horizon Europe. Des 
 intervenants de la Commission européenne fourniront des informations déta
 illées sur les thèmes de l'appel\,  les processus d'évaluation[..]\nhttp
 s://occitanie-europe.eu/events/journees-dinformation-horizon-europe-cluster
 -4/
URL:https://occitanie-europe.eu/events/journees-dinformation-horizon-europe-cluster-4/
END:VEVENT
END:VCALENDAR