BEGIN:VCALENDAR
VERSION:2.0
PRODID:-//eventon.com NONSGML v1.0//EN
CALSCALE:GREGORIAN
METHOD:PUBLISH
BEGIN:VEVENT
UID:69e74ecd77b55
DTSTAMP:20260421T101749Z
DTSTART:20250123T103000Z
DTEND:20250123T123000Z
LOCATION:
SUMMARY:Webinaire CERV : présentation de l'AAP Participation citoyenne
DESCRIPTION:Le Point de contact national du programme CERV organise une ses
 sion d'information en ligne le jeudi 23 janvier 2025 de 10h30 à 12h30 
 afin de présenter l'appel à projets "Participation citoyenne 2025"\,  qui
  se clôture le 29 avril 2025. Durée : 2 heures. La session se déroulera 
 en 2 parties : 1) Présentation de[..]\nhttps://occitanie-europe.eu/events/
 webinaire-cerv-presentation-de-laap-participation-citoyenne/
URL:https://occitanie-europe.eu/events/webinaire-cerv-presentation-de-laap-participation-citoyenne/
END:VEVENT
END:VCALENDAR