BEGIN:VCALENDAR
VERSION:2.0
PRODID:-//eventon.com NONSGML v1.0//EN
CALSCALE:GREGORIAN
METHOD:PUBLISH
BEGIN:VEVENT
UID:69ed2e90e4af6
DTSTAMP:20260425T211352Z
DTSTART:20241113T110000Z
DTEND:20241113T123000Z
LOCATION:
SUMMARY:Webinaire : Verdissement de l’UE – L'apprentissage dans le secteur des énergies renouvelables
DESCRIPTION:L’Alliance européenne pour l’apprentissage (EAfA) organise
  un webinaire le 13 novembre 2024\,  de 11h00 à 12h30 CET. L’événement
 \,  intitulé « Verdir l’UE : l’apprentissage dans le secteur des éne
 rgies renouvelables »\,  explorera le rôle important que jouent les appre
 ntissages dans le soutien à la transition du secteur des énergies renouve
 lables[..]\nhttps://occitanie-europe.eu/events/webinaire-verdissement-de-lu
 e-lapprentissage-dans-le-secteur-des-energies-renouvelables/
URL:https://occitanie-europe.eu/events/webinaire-verdissement-de-lue-lapprentissage-dans-le-secteur-des-energies-renouvelables/
END:VEVENT
END:VCALENDAR