BEGIN:VCALENDAR
VERSION:2.0
PRODID:-//eventon.com NONSGML v1.0//EN
CALSCALE:GREGORIAN
METHOD:PUBLISH
BEGIN:VEVENT
UID:69e73a22f0fde
DTSTAMP:20260421T084938Z
DTSTART:20241112T093000Z
DTEND:20241112T120000Z
LOCATION:
SUMMARY:Journée d’information des coordinateurs - Horizon Europe - AMSC
DESCRIPTION:Une séance d’information est destinée aux consortiums finan
 cés dans le cadre de l’appel 2023 des réseaux doctoraux AMSC et vise à
  offrir aux coordinateurs et aux bénéficiaires un aperçu des aspects fon
 damentaux de la gestion et des procédures du cycle de vie du projet. Il se
  concentre également sur les[..]\nhttps://occitanie-europe.eu/events/journ
 ee-dinformation-des-coordinateurs-horizon-europe-amsc/
URL:https://occitanie-europe.eu/events/journee-dinformation-des-coordinateurs-horizon-europe-amsc/
END:VEVENT
END:VCALENDAR