BEGIN:VCALENDAR
VERSION:2.0
PRODID:-//eventon.com NONSGML v1.0//EN
CALSCALE:GREGORIAN
METHOD:PUBLISH
BEGIN:VEVENT
UID:69eba78869114
DTSTAMP:20260424T172528Z
DTSTART:20241002T120000Z
DTEND:20241002T133000Z
LOCATION:
SUMMARY:JournÃ©e dâ€™information sur les appels Ã  projets du MIE Transport 2024
DESCRIPTION:Le 2 octobre 2024\,  CINEA et la DG MOVE de la Commission europ
 Ã©enne organisent une sÃ©ance dâ€™information pour prÃ©senter lesÂ appels Ã
   projets 2024 du MIE Transport. La journÃ©e dâ€™information guidera les ca
 ndidats Ã  travers les prioritÃ©s des appels\,  expliquera le processus de 
 candidature et dâ€™Ã©valuation\,  y compris les critÃ¨res dâ€™attribution.[
 ..]\nhttps://occitanie-europe.eu/events/journee-dinformation-sur-les-appels
 -a-projets-du-mie-transport-2024/
URL:https://occitanie-europe.eu/events/journee-dinformation-sur-les-appels-a-projets-du-mie-transport-2024/
END:VEVENT
END:VCALENDAR