BEGIN:VCALENDAR
VERSION:2.0
PRODID:-//eventon.com NONSGML v1.0//EN
CALSCALE:GREGORIAN
METHOD:PUBLISH
BEGIN:VEVENT
UID:69ead797519a9
DTSTAMP:20260424T023815Z
DTSTART:20241118
DTEND:20241119
LOCATION:
SUMMARY:Semaine Européenne de l'Hydrogène
DESCRIPTION:S’appuyant sur le succès de la Semaine Européenne de l’H
 ydrogène 2023\,   Hydrogen Europe\,  la Commission européenne et le Clea
 n Hydrogen Partnership se sont associés pour réunir l’ensemble du sect
 eur de l’hydrogène en un seul endroit pour une semaine entière de con
 férences\,  d’expositions et d’opportunités de réseautage. Cet évé
 nement de référence en Europe sur l'économie[..]\nhttps://occitanie-euro
 pe.eu/events/semaine-europeenne-de-lhydrogene-2/
URL:https://occitanie-europe.eu/events/semaine-europeenne-de-lhydrogene-2/
END:VEVENT
END:VCALENDAR