BEGIN:VCALENDAR
VERSION:2.0
PRODID:-//eventon.com NONSGML v1.0//EN
CALSCALE:GREGORIAN
METHOD:PUBLISH
BEGIN:VEVENT
UID:69e9fe496b4a6
DTSTAMP:20260423T111105Z
DTSTART:20240613T080000Z
DTEND:20240613T143000Z
LOCATION:Palais des Académies Rue Ducale 1\,  1000 Bruxelles
SUMMARY:Forum Océan Numérique 2024
DESCRIPTION:La présidente von der Leyen a annoncé\,  à l’occasion du O
 ne Ocean Summit à Brest\,  en février 2022\,  que\,  dans le cadre de la 
 mission de l’UE Restore our Ocean and Waters\,  l’Union européenne con
 struirait un jumeau numérique de l’océan (DTO) d’ici fin 2024. Le jum
 eau numérique européen de l’océan[..]\nhttps://occitanie-europe.eu/eve
 nts/forum-ocean-numerique-2024/
URL:https://occitanie-europe.eu/events/forum-ocean-numerique-2024/
END:VEVENT
END:VCALENDAR