BEGIN:VCALENDAR
VERSION:2.0
PRODID:-//eventon.com NONSGML v1.0//EN
CALSCALE:GREGORIAN
METHOD:PUBLISH
BEGIN:VEVENT
UID:69e739f677754
DTSTAMP:20260421T084854Z
DTSTART:20240418T073000Z
DTEND:20240418T143000Z
LOCATION:
SUMMARY:Session d’information en ligne : Appel à propositions Mémoire européenne - 2024 (CERV-2024-CITIZENS-REM)
DESCRIPTION:L’Agence exécutive européenne pour l’éducation et la cul
 ture (EACEA) organise une séance d’information en ligne le 18 avril 2024
  de 9h30 à 16h30 pour présenter les possibilités de financement dans le 
 cadre de l’appel à propositions 2024 pour la mémoire européenne (CERV-
 2024-CITIZENS-REM) à tous les candidats et parties prenantes intéressés.
 [..]\nhttps://occitanie-europe.eu/events/session-dinformation-en-ligne-appe
 l-a-propositions-memoire-europeenne-2024-cerv-2024-citizens-rem/
URL:https://occitanie-europe.eu/events/session-dinformation-en-ligne-appel-a-propositions-memoire-europeenne-2024-cerv-2024-citizens-rem/
END:VEVENT
END:VCALENDAR