BEGIN:VCALENDAR
VERSION:2.0
PRODID:-//eventon.com NONSGML v1.0//EN
CALSCALE:GREGORIAN
METHOD:PUBLISH
BEGIN:VEVENT
UID:69e739a54aeac
DTSTAMP:20260421T084733Z
DTSTART:20240325T133000Z
DTEND:20240325T170000Z
LOCATION:JDE 62\,  Rue Belliard 99 Bruxelles Belgium JDE 62\,  Rue Belliard 99 Bruxelles Belgium
SUMMARY:Conférence - Renforcer la société civile et la démocratie participative dans l’UE : la voie à suivre
DESCRIPTION:La conférence explorera comment l’UE dans son ensemble et 
 les États membres individuellement peuvent œuvrer en faveur d’un dialo
 gue civil efficace et durable et d’une démocratie participative. Lors d
 e sa session plénière des 14 et 15 février\,  le Comité économique et 
 social européen (CESE) a adopté un avis intitulé « Renforcer le dia
 logue civil et la démocratie participative[..]\nhttps://occitanie-europe.e
 u/events/conference-renforcer-la-societe-civile-et-la-democratie-participat
 ive-dans-lue-la-voie-a-suivre/
URL:https://occitanie-europe.eu/events/conference-renforcer-la-societe-civile-et-la-democratie-participative-dans-lue-la-voie-a-suivre/
END:VEVENT
END:VCALENDAR