BEGIN:VCALENDAR
VERSION:2.0
PRODID:-//eventon.com NONSGML v1.0//EN
CALSCALE:GREGORIAN
METHOD:PUBLISH
BEGIN:VEVENT
UID:69e73a2278efa
DTSTAMP:20260421T084938Z
DTSTART:20240118T080000Z
DTEND:20240119T160000Z
LOCATION:Cantersteen 12 1000 Bruxelles Belgique
SUMMARY:L'INTELLIGENCE ARTIFICIELLE CENTRÉE SUR L'HUMAIN POUR ACCÉLÉRER LA TRANSFORMATION NUMÉRIQUE
DESCRIPTION:SustAIn.brussels\,  Enterprise Europe Brussels et CLAIRE organi
 sent un événement de matchmaking pour réunir des entreprises\,  des cent
 res européens d'innovation numérique et des centres de recherche d'un gra
 nd nombre de pays européens. Il s'agit d'une occasion unique de générer 
 de nouveaux contacts commerciaux et de trouver des partenaires technologiqu
 es et de[..]\nhttps://occitanie-europe.eu/events/lintelligence-artificielle
 -centree-sur-lhumain-pour-accelerer-la-transformation-numerique/
URL:https://occitanie-europe.eu/events/lintelligence-artificielle-centree-sur-lhumain-pour-accelerer-la-transformation-numerique/
END:VEVENT
END:VCALENDAR