BEGIN:VCALENDAR
VERSION:2.0
PRODID:-//eventon.com NONSGML v1.0//EN
CALSCALE:GREGORIAN
METHOD:PUBLISH
BEGIN:VEVENT
UID:69e76bc08ef7e
DTSTAMP:20260421T122120Z
DTSTART:20230621
DTEND:20230622
LOCATION:Bruxelles
SUMMARY:Conférence finale de DT4Regions
DESCRIPTION:La conférence finale de DT4Regions se tiendra les 21 et 22 jui
 n prochains à Bruxelles. L’objectif de cet événement est de présenter
  les réalisations du projet DT4Regions durant les deux dernières années 
 et d’encourager les partages d’expériences entre les membres de la com
 munauté DT4Regions. Le programme provisoire de l’événement est[..]\nht
 tps://occitanie-europe.eu/events/conference-finale-de-dt4regions/
URL:https://occitanie-europe.eu/events/conference-finale-de-dt4regions/
END:VEVENT
END:VCALENDAR