BEGIN:VCALENDAR
VERSION:2.0
PRODID:-//eventon.com NONSGML v1.0//EN
CALSCALE:GREGORIAN
METHOD:PUBLISH
BEGIN:VEVENT
UID:69e739a436b1c
DTSTAMP:20260421T084732Z
DTSTART:20230523T110000Z
DTEND:20230523T150000Z
LOCATION:
SUMMARY:Le hackathon EntreComp pour les objectifs de développement durable
DESCRIPTION:La Communauté du « Cadre européen de compétences en entrepr
 eneuriat » (EntreComp)\,  une initiative de la Commission européenne\,  o
 rganise le 23 mai prochain un hackathon autour des objectifs du développem
 ent durable (ODD) de l’ONU. &nbsp; L’objectif de cet hackathon est de r
 assembler des acteurs du monde universitaire et entrepreneurial pour[..]\nh
 ttps://occitanie-europe.eu/events/le-hackathon-entrecomp-pour-les-objectifs
 -de-developpement-durable/
URL:https://occitanie-europe.eu/events/le-hackathon-entrecomp-pour-les-objectifs-de-developpement-durable/
END:VEVENT
END:VCALENDAR