BEGIN:VCALENDAR
VERSION:2.0
PRODID:-//eventon.com NONSGML v1.0//EN
CALSCALE:GREGORIAN
METHOD:PUBLISH
BEGIN:VEVENT
UID:69e739e77fea5
DTSTAMP:20260421T084839Z
DTSTART:20230216T080000Z
DTEND:20230217T170000Z
LOCATION:
SUMMARY:Horizon Europe\,  Cluster 5 : Climat\,  énergie et mobilité Appels 2023-2024
DESCRIPTION:Dans le cadre du programme de travail Horizon Europe de la CE\,
   l'Istanbul Project Academy organise un événement de mise en réseau - a
 xé sur les appels à propositions 2023-2024 du programme de travail du "Cl
 uster 5 : Climat\,  énergie et mobilité"\,  soutenu conjointement par Ent
 erprise Europe Network et la[..]\nhttps://occitanie-europe.eu/events/horizo
 n-europe-cluster-5-climat-energie-et-mobilite-appels-2023-2024/
URL:https://occitanie-europe.eu/events/horizon-europe-cluster-5-climat-energie-et-mobilite-appels-2023-2024/
END:VEVENT
END:VCALENDAR