BEGIN:VCALENDAR
VERSION:2.0
PRODID:-//eventon.com NONSGML v1.0//EN
CALSCALE:GREGORIAN
METHOD:PUBLISH
BEGIN:VEVENT
UID:69eb4858c7e8f
DTSTAMP:20260424T103920Z
DTSTART:20230202T081500Z
DTEND:20230202T113000Z
LOCATION:
SUMMARY:Défi Accélérateur Infoday EIC - Nouveau Bauhaus européen et numérisation de l'architecture\,  de l'ingénierie et de la construction pour la décarbonisation
DESCRIPTION:L'EISMEA organise une série d'infodays pour présenter les dé
 fis ("Challenges") EIC pour l'année 2023 !  Le 2 février 2023 matin\,  
 l'EIC Accélérateur Challenge - New European Bauhaus and Architecture\,  
 Engineering and Construction digitalisation for decarbonisation sera pré
 senté par Franc MOUWEN\,  l'EIC Programme Manager pour cette thématique
 . Cette présentation sera suivie par une session de questions/réponses.\n
 https://occitanie-europe.eu/events/defi-accelerateur-infoday-eic-nouveau-ba
 uhaus-europeen-et-numerisation-de-larchitecture-de-lingenierie-et-de-la-con
 struction-pour-la-decarbonisation/
URL:https://occitanie-europe.eu/events/defi-accelerateur-infoday-eic-nouveau-bauhaus-europeen-et-numerisation-de-larchitecture-de-lingenierie-et-de-la-construction-pour-la-decarbonisation/
END:VEVENT
END:VCALENDAR