BEGIN:VCALENDAR
VERSION:2.0
PRODID:-//eventon.com NONSGML v1.0//EN
CALSCALE:GREGORIAN
METHOD:PUBLISH
BEGIN:VEVENT
UID:69e73a407856d
DTSTAMP:20260421T085008Z
DTSTART:20230214T110000Z
DTEND:20230216T183000Z
LOCATION:BluePoint Bd. A. Reyers Ln 80\,  1030 Bruxelles
SUMMARY:ConfÃ©rence sur les rÃ©sultats de la recherche sur les transports routiers
DESCRIPTION:Les prÃ©paratifs de la 6e Ã©dition de la confÃ©rence sur les rÃ
 ©sultats de la recherche en matiÃ¨re de transports routiers sont en cours. 
 Il ne nous manque plus que vous comme invitÃ© ! Le Conseil consultatif euro
 pÃ©en pour la recherche sur les transports routiers (ERTRAC)\,  l'Associati
 on pour l'initiative europÃ©enne en[..]\nhttps://occitanie-europe.eu/events
 /conference-sur-les-resultats-de-la-recherche-sur-les-transports-routiers/
URL:https://occitanie-europe.eu/events/conference-sur-les-resultats-de-la-recherche-sur-les-transports-routiers/
END:VEVENT
END:VCALENDAR