BEGIN:VCALENDAR
VERSION:2.0
PRODID:-//eventon.com NONSGML v1.0//EN
CALSCALE:GREGORIAN
METHOD:PUBLISH
BEGIN:VEVENT
UID:69e739c54cd01
DTSTAMP:20260421T084805Z
DTSTART:20221206T090000Z
DTEND:20221206T113000Z
LOCATION:
SUMMARY:Webinaire "Répondre à l'appel Circulation des œuvres littéraires 2023".
DESCRIPTION:Le Relais Culture organise\,  en partenariat avec le ministère
  de la Culture\,  le mardi 6 décembre à 10h\,  un webinaire "Répondre à
  l'appel Circulation des œuvres littéraires 2023". En présence de la Com
 mission européenne\,  ce webinaire aura pour objectif de décrypter l'appe
 l à propositions\,  d'échanger et de présenter l'appui individuel[..]\nh
 ttps://occitanie-europe.eu/events/webinaire-repondre-a-lappel-circulation-d
 es-oeuvres-litteraires-2023/
URL:https://occitanie-europe.eu/events/webinaire-repondre-a-lappel-circulation-des-oeuvres-litteraires-2023/
END:VEVENT
END:VCALENDAR