BEGIN:VCALENDAR
VERSION:2.0
PRODID:-//eventon.com NONSGML v1.0//EN
CALSCALE:GREGORIAN
METHOD:PUBLISH
BEGIN:VEVENT
UID:69e73a4000702
DTSTAMP:20260421T085008Z
DTSTART:20221004T070000Z
DTEND:20221004T110000Z
LOCATION:
SUMMARY:Atelier sur le soutien aux innovations dans le transport routier
DESCRIPTION:Le 4 octobre 2022\,  la Commission européenne et les partenari
 ats européens 2ZERO et CCAM organisent un atelier pour discuter des moyens
  de soutenir les innovations dans le transport routier grâce aux différen
 ts programmes de l'UE. Cet évènement permettra aux participants de mieux 
 appréhender les possibilités de financements européens dans Horizon[..]\
 nhttps://occitanie-europe.eu/events/atelier-sur-le-soutien-aux-innovations-
 dans-le-transport-routier/
URL:https://occitanie-europe.eu/events/atelier-sur-le-soutien-aux-innovations-dans-le-transport-routier/
END:VEVENT
END:VCALENDAR