BEGIN:VCALENDAR
VERSION:2.0
PRODID:-//eventon.com NONSGML v1.0//EN
CALSCALE:GREGORIAN
METHOD:PUBLISH
BEGIN:VEVENT
UID:69e73a21f32e4
DTSTAMP:20260421T084937Z
DTSTART:20220518
DTEND:20220519
LOCATION:
SUMMARY:Journée d'information sur le Programme Life
DESCRIPTION:Journée d'information sur le Programme Life\nhttps://occitanie
 -europe.eu/events/journee-dinformation-sur-le-programme-life/
URL:https://occitanie-europe.eu/events/journee-dinformation-sur-le-programme-life/
END:VEVENT
END:VCALENDAR