BEGIN:VCALENDAR
VERSION:2.0
PRODID:-//eventon.com NONSGML v1.0//EN
CALSCALE:GREGORIAN
METHOD:PUBLISH
BEGIN:VEVENT
UID:69e4dca50e551
DTSTAMP:20260419T134613Z
DTSTART:20220511T110000Z
DTEND:20220511T153000Z
LOCATION:
SUMMARY:"Excellence Inclusive" - Une approche globale pour l'enseignement supérieur européen ?
DESCRIPTION:Le 18 janvier 2022\,  la Commission européenne a lancé une St
 ratégie européenne pour les Universités. Cet évènement aura comme obje
 ctif d'explorer la portée stratégique et le rôle de la perspective et de
  l'approche de l'Europe en matière de coopération mondiale dans le domain
 e de l'enseignement supérieur\,  à travers le concept[..]\nhttps://occita
 nie-europe.eu/events/excellence-inclusive-une-approche-globale-pour-lenseig
 nement-superieur-europeen/
URL:https://occitanie-europe.eu/events/excellence-inclusive-une-approche-globale-pour-lenseignement-superieur-europeen/
END:VEVENT
END:VCALENDAR